BEGIN:VCALENDAR
VERSION:2.0
PRODID:-//eventon.com NONSGML v1.0//EN
CALSCALE:GREGORIAN
METHOD:PUBLISH
BEGIN:VEVENT
UID:69e8d396ade19
DTSTAMP:20260422T135638Z
DTSTART:20261112T180000Z
DTEND:20261112T203000Z
LOCATION:SWV Driegang Dokter van Stratenweg 15\,  4205 LA Gorinchem
SUMMARY:Workshop Faalangst
DESCRIPTION:Faalangst herkennen\,  begrijpen en begeleiden vanuit kennis en
  praktijk Faalangst is een veelvoorkomend\,  maar vaak onbegrepen angst ond
 er kinderen. In deze verdiepende workshop gebaseerd op wetenschappelijke ke
 nnis\,  krijgen professionals die werken met kinderen inzicht in wat faalan
 gst is\,  hoe het ontstaat en hoe je kinderen met faalangst effectief kunt 
 ondersteunen.[..]\nhttps://driegang.nl/cursusaanbod/events/faalangst/
URL:https://driegang.nl/cursusaanbod/events/faalangst/
END:VEVENT
END:VCALENDAR