BEGIN:VCALENDAR
VERSION:2.0
PRODID:-//eventon.com NONSGML v1.0//EN
CALSCALE:GREGORIAN
METHOD:PUBLISH
BEGIN:VEVENT
UID:69e8d50a246d2
DTSTAMP:20260422T140250Z
DTSTART:20260922T070000Z
DTEND:20260922T100000Z
LOCATION:SWV Driegang Dokter van Stratenweg 15\,  4205 LA Gorinchem
SUMMARY:Leerlijnen in ParnasSys
DESCRIPTION:De module leerlijnen in ParnasSys geeft je als school de mogeli
 jkheid om leerlijnpakketten met leerdoelen in jullie ParnasSys omgeving te 
 plaatsen. In het planscherm in ParnasSys wordt zichtbaar welke leerling aan
  welke doelen kan gaan werken in de komende periode. Het plannen van deze d
 oelen doe je op basis van[..]\nhttps://driegang.nl/cursusaanbod/events/leer
 lijnen/
URL:https://driegang.nl/cursusaanbod/events/leerlijnen/
END:VEVENT
END:VCALENDAR