BEGIN:VCALENDAR
VERSION:2.0
PRODID:-//eventon.com NONSGML v1.0//EN
CALSCALE:GREGORIAN
METHOD:PUBLISH
BEGIN:VEVENT
UID:69e8d5092ecfc
DTSTAMP:20260422T140249Z
DTSTART:20260901T050000Z
DTEND:20260901T060000Z
LOCATION:SWV Driegang Dokter van Stratenweg 15\,  4205 LA Gorinchem
SUMMARY:Groepssupervisie
DESCRIPTION:Supervisie is een vorm van begeleiding waarbij je leert te refl
 ecteren op je eigen handelen vanuit een werkervaring. A.d.h.v. een werkgere
 lateerde casus kijken we welke plek jij inneemt in deze casus. Je krijgt hi
 erdoor inzicht in jouw doen\,  denken en voelen en verkent nieuwe mogelijkh
 eden (willen). Deze voer je vervolgens[..]\nhttps://driegang.nl/cursusaanbo
 d/events/groepssupervisie/
URL:https://driegang.nl/cursusaanbod/events/groepssupervisie/
END:VEVENT
END:VCALENDAR