BEGIN:VCALENDAR
VERSION:2.0
PRODID:-//eventon.com NONSGML v1.0//EN
CALSCALE:GREGORIAN
METHOD:PUBLISH
BEGIN:VEVENT
UID:69e8d3b2afb3d
DTSTAMP:20260422T135706Z
DTSTART:20261117T080000Z
DTEND:20261117T110000Z
LOCATION:SWV Driegang Dokter van Stratenweg 15\,  4205 LA Gorinchem
SUMMARY:Kindbegrip (in ParnasSys)
DESCRIPTION:Als leerkracht ken jij je klas als geen ander. Je weet wat je l
 eerlingen nodig hebben om lekker in hun vel te zitten. Met jouw kennis en K
 indbegrip ter ondersteuning bouw je samen aan een veilige en prettige leero
 mgeving. Je legt het fundament voor gelukkig leren en ontwikkelen met de[..
 ]\nhttps://driegang.nl/cursusaanbod/events/kindbegrip/
URL:https://driegang.nl/cursusaanbod/events/kindbegrip/
END:VEVENT
END:VCALENDAR