BEGIN:VCALENDAR
VERSION:2.0
PRODID:-//eventon.com NONSGML v1.0//EN
CALSCALE:GREGORIAN
METHOD:PUBLISH
BEGIN:VEVENT
UID:69e8d53b784f8
DTSTAMP:20260422T140339Z
DTSTART:20261013T070000Z
DTEND:20261013T150000Z
LOCATION:SWV Driegang Dokter van Stratenweg 15\,  4205 LA Gorinchem
SUMMARY:Kenniskring Schoolleiders
DESCRIPTION:Thuisnabij Inclusief Onderwijs In het schooljaar 2026–2027 st
 art SWV Driegang met een kenniskring voor schoolleiders rond het thema thui
 snabij inclusief onderwijs. In dit traject werken schoolleiders gedurende e
 en schooljaar intensief samen aan actuele vraagstukken uit hun eigen prakti
 jk\,  onder begeleiding van toonaangevende experts op het gebied van inclus
 ief onderwijs en[..]\nhttps://driegang.nl/cursusaanbod/events/kenniskring-s
 choolleiders/
URL:https://driegang.nl/cursusaanbod/events/kenniskring-schoolleiders/
END:VEVENT
END:VCALENDAR