BEGIN:VCALENDAR
VERSION:2.0
PRODID:-//eventon.com NONSGML v1.0//EN
CALSCALE:GREGORIAN
METHOD:PUBLISH
BEGIN:VEVENT
UID:69e8d55eb9831
DTSTAMP:20260422T140414Z
DTSTART:20261110T180000Z
DTEND:20261110T200000Z
LOCATION:SWV Driegang Dokter van Stratenweg 15\,  4205 LA Gorinchem
SUMMARY:Gescheiden ouders op school: helderheid in complexe situaties
DESCRIPTION:Steeds vaker krijgen scholen te maken met complexe situaties ro
 ndom gescheiden ouders. Wat zijn de rechten en plichten van school? Welke i
 nformatie mag of moet je delen? Hoe ga je zorgvuldig om met oudergesprekken
  en toestemming voor begeleiding? In deze interactieve sessie van twee uur 
 nemen de experts van het[..]\nhttps://driegang.nl/cursusaanbod/events/gesch
 eiden-ouders-op-school/
URL:https://driegang.nl/cursusaanbod/events/gescheiden-ouders-op-school/
END:VEVENT
END:VCALENDAR