BEGIN:VCALENDAR
VERSION:2.0
PRODID:-//eventon.com NONSGML v1.0//EN
CALSCALE:GREGORIAN
METHOD:PUBLISH
BEGIN:VEVENT
UID:69e8d53c6bb79
DTSTAMP:20260422T140340Z
DTSTART:20260923T140000Z
DTEND:20260923T150000Z
LOCATION:CBS &#039;t Kompas / OBS Sigmondschool in Werkendam Hooftlanden 1\,  4251 BE Werkendam / H.J. Roubosstraat 5\,  4251 BZ Werkendam
SUMMARY:Ronde 1: Impact van relatieproblemen en scheiding op kinderen
DESCRIPTION:RONDE 1: 16.00 &#8211; 17.00 uur: Impact van relatieproblemen e
 n scheiding op kinderen &nbsp; We duiken in deze workshop in de  impact va
 n relatieproblemen en scheiding op leerlingen in het primair onderwijs. Hoe
  herken je signalen bij kinderen? Hoe voer je een open gesprek met ouders z
 onder in het conflict[..]\nhttps://driegang.nl/cursusaanbod/events/ouders-m
 et-relatieproblemen/
URL:https://driegang.nl/cursusaanbod/events/ouders-met-relatieproblemen/
END:VEVENT
END:VCALENDAR