BEGIN:VCALENDAR
VERSION:2.0
PRODID:-//eventon.com NONSGML v1.0//EN
CALSCALE:GREGORIAN
METHOD:PUBLISH
BEGIN:VEVENT
UID:69e8d53b4b0d2
DTSTAMP:20260422T140339Z
DTSTART:20261112T180000Z
DTEND:20261112T200000Z
LOCATION:SWV Driegang Dokter van Stratenweg 15\,  4205 LA Gorinchem
SUMMARY:Basiscursus Traumasensitief onderwijs
DESCRIPTION:Traumasensitief onderwijs richt zich op het creëren van een ve
 ilig en steunend schoolklimaat dat goed is voor álle leerlingen en in het 
 bijzonder voor leerlingen die te maken hebben gehad met ingrijpende gebeurt
 enissen of chronische stress. Het doel is om een omgeving te bieden waarin 
 leerlingen weer kunnen leren\,  vertrouwen[..]\nhttps://driegang.nl/cursusa
 anbod/events/basiscursus-traumasensitief/
URL:https://driegang.nl/cursusaanbod/events/basiscursus-traumasensitief/
END:VEVENT
END:VCALENDAR