BEGIN:VCALENDAR
VERSION:2.0
PRODID:-//eventon.com NONSGML v1.0//EN
CALSCALE:GREGORIAN
METHOD:PUBLISH
BEGIN:VEVENT
UID:69e8d50a51417
DTSTAMP:20260422T140250Z
DTSTART:20270114T180000Z
DTEND:20270114T200000Z
LOCATION:SWV Driegang Dokter van Stratenweg 15\,  4205 LA Gorinchem
SUMMARY:Verdiepingscursus Traumasensitief onderwijs
DESCRIPTION:Deze verdiepingscursus Traumasensitief onderwijs bouwt voort op
  de basiscursus en is bedoeld voor deelnemers die eerder de basiscursus of 
 workshop Traumasensitief onderwijs hebben gevolgd. In deze cursus ga je van
  begrijpen naar doen: hoe pas je traumasensitief werken consequent toe in j
 e dagelijkse onderwijspraktijk\,  ook in complexe situaties? &nbsp; We[..]\
 nhttps://driegang.nl/cursusaanbod/events/verdiepingscursus-traumasensitief-
 onderwijs/
URL:https://driegang.nl/cursusaanbod/events/verdiepingscursus-traumasensitief-onderwijs/
END:VEVENT
END:VCALENDAR