BEGIN:VCALENDAR
VERSION:2.0
PRODID:-//eventon.com NONSGML v1.0//EN
CALSCALE:GREGORIAN
METHOD:PUBLISH
BEGIN:VEVENT
UID:69e8d4e1544c8
DTSTAMP:20260422T140209Z
DTSTART:20260901T050000Z
DTEND:20261001T060000Z
LOCATION:Nader te bepalen
SUMMARY:Teamscholing Traumasensitief werken (keuze: basis of verdieping)
DESCRIPTION:Maak als schoolteam het verschil met traumasensitief onderwijs!
  Wil jouw school een veilige en ondersteunende leeromgeving creëren waarin
  álle leerlingen zich kunnen ontwikkelen\,  ook degenen die ingrijpende ge
 beurtenissen of chronische stress hebben meegemaakt? Volg deze cursus dan s
 amen met het hele schoolteam! Tijdens deze praktijkgerichte cursus leren ju
 llie wat trauma[..]\nhttps://driegang.nl/cursusaanbod/events/teamscholing-t
 raumasensitief/
URL:https://driegang.nl/cursusaanbod/events/teamscholing-traumasensitief/
END:VEVENT
END:VCALENDAR