BEGIN:VCALENDAR
VERSION:2.0
PRODID:-//eventon.com NONSGML v1.0//EN
CALSCALE:GREGORIAN
METHOD:PUBLISH
BEGIN:VEVENT
UID:69e8d53c79935
DTSTAMP:20260422T140340Z
DTSTART:20261014T170000Z
DTEND:20261014T183000Z
LOCATION:SWV Driegang Dokter van Stratenweg 15\,  4205 LA Gorinchem
SUMMARY:Didactiek van een creatieve les
DESCRIPTION:In de workshop Didactiek van een creatieve les ontdek je hoe 
 je als leerkracht creatieve lessen vormgeeft waarin niet het eindproduct\, 
  maar het maak- en leerproces van de leerling centraal staan. Je krijgt con
 crete\,  direct toepasbare handvatten om in jouw klas ruimte te maken voor 
 onderzoek\,  experiment en eigen keuzes – zonder[..]\nhttps://driegang.nl
 /cursusaanbod/events/didactiek-van-een-creatieve-les/
URL:https://driegang.nl/cursusaanbod/events/didactiek-van-een-creatieve-les/
END:VEVENT
END:VCALENDAR