BEGIN:VCALENDAR
VERSION:2.0
PRODID:-//eventon.com NONSGML v1.0//EN
CALSCALE:GREGORIAN
METHOD:PUBLISH
BEGIN:VEVENT
UID:69e8d53a3c878
DTSTAMP:20260422T140338Z
DTSTART:20261015T170000Z
DTEND:20261015T190000Z
LOCATION:SWV Driegang Dokter van Stratenweg 15\,  4205 LA Gorinchem
SUMMARY:Filosoferen met kinderen
DESCRIPTION:Filosoferen met kinderen geeft leerkrachten concrete en direct 
 toepasbare handvatten om denkvaardigheden\,  dialoog en betrokkenheid in de
  klas te versterken\,  met behulp van kunst\,  verhalen en alledaagse ervar
 ingen. &nbsp; Over de training In deze training ervaren docenten een filoso
 fisch groepsgesprek en onderzoeken zij welke vragen\,  interventies en mate
 rialen het denken[..]\nhttps://driegang.nl/cursusaanbod/events/filosoferen-
 met-kinderen/
URL:https://driegang.nl/cursusaanbod/events/filosoferen-met-kinderen/
END:VEVENT
END:VCALENDAR