BEGIN:VCALENDAR
VERSION:2.0
PRODID:-//eventon.com NONSGML v1.0//EN
CALSCALE:GREGORIAN
METHOD:PUBLISH
BEGIN:VEVENT
UID:69e8d563e7555
DTSTAMP:20260422T140419Z
DTSTART:20261005T133000Z
DTEND:20261005T153000Z
LOCATION:SWV Driegang Dokter van Stratenweg 15\,  4205 LA Gorinchem
SUMMARY:Onderbuikgevoel\,  wat doe je ermee?
DESCRIPTION:&#8220;Onderbuikgevoel\,  wat doe je ermee?&#8221; Als je het g
 evoel hebt\,  al dan niet zichtbaar\,  dat een leerling binnen jouw groep e
 n binnen jouw school zich thuis in een onveilige of onprettige situatie bev
 indt. Als je het gevoel hebt dat je er iets mee “moet” maar niet precie
 s weet hoe en[..]\nhttps://driegang.nl/cursusaanbod/events/onderbuikgevoel/
URL:https://driegang.nl/cursusaanbod/events/onderbuikgevoel/
END:VEVENT
END:VCALENDAR