BEGIN:VCALENDAR
VERSION:2.0
PRODID:-//eventon.com NONSGML v1.0//EN
CALSCALE:GREGORIAN
METHOD:PUBLISH
BEGIN:VEVENT
UID:69e8d5077963c
DTSTAMP:20260422T140247Z
DTSTART:20260923T150000Z
DTEND:20260923T160000Z
LOCATION:CBS &#039;t Kompas / OBS Sigmondschool in Werkendam Hooftlanden 1\,  4251 BE Werkendam / H.J. Roubosstraat 5\,  4251 BZ Werkendam
SUMMARY:Ronde 2: Traumasensitief kijken en neurodiversiteit
DESCRIPTION:RONDE 2: 17.00 &#8211; 18.00 uur: Traumasensitief kijken en neu
 rodiversiteit &nbsp; Gedrag dat schuurt. Kinderen die vastlopen. En die ond
 erliggende vraag die veel leerkrachten herkennen: wat vraagt dit van mij\, 
  in mijn dagelijkse handelen? &nbsp; We verkennen de diversiteit binnen aut
 isme en andere vormen van neurodiversiteit en hoe verschillend gedrag[..]\n
 https://driegang.nl/cursusaanbod/events/ronde-2-traumasensitief-kijken-en-n
 eurodiversiteit/
URL:https://driegang.nl/cursusaanbod/events/ronde-2-traumasensitief-kijken-en-neurodiversiteit/
END:VEVENT
END:VCALENDAR