BEGIN:VCALENDAR
VERSION:2.0
PRODID:-//eventon.com NONSGML v1.0//EN
CALSCALE:GREGORIAN
METHOD:PUBLISH
BEGIN:VEVENT
UID:69e8d55fbf6d6
DTSTAMP:20260422T140415Z
DTSTART:20260923T150000Z
DTEND:20260923T160000Z
LOCATION:CBS &#039;t Kompas / OBS Sigmondschool in Werkendam Hooftlanden 1\,  4251 BE Werkendam / H.J. Roubosstraat 5\,  4251 BZ Werkendam
SUMMARY:Ronde 2: Hoe maak ik een passend leesbegeleidingsplan (in groep 3 en 4)?
DESCRIPTION:RONDE 2: 17.00 &#8211; 18.00 uur: Hoe maak ik een passend leesb
 egeleidingsplan (in groep 3 en 4)? &nbsp; Hoe zorg je ervoor dat jouw leesb
 egeleiding écht aansluit bij wat een leerling nodig heeft? In deze praktis
 che en interactieve workshop leer je hoe je leesproblemen gericht analyseer
 t en vertaalt naar concrete[..]\nhttps://driegang.nl/cursusaanbod/events/ro
 nde-2-hoe-maak-ik-een-passend-leesbegeleidingsplan-in-groep-3-en-4/
URL:https://driegang.nl/cursusaanbod/events/ronde-2-hoe-maak-ik-een-passend-leesbegeleidingsplan-in-groep-3-en-4/
END:VEVENT
END:VCALENDAR