BEGIN:VCALENDAR
VERSION:2.0
PRODID:-//eventon.com NONSGML v1.0//EN
CALSCALE:GREGORIAN
METHOD:PUBLISH
BEGIN:VEVENT
UID:69e8d50c42994
DTSTAMP:20260422T140252Z
DTSTART:20261101T060000Z
DTEND:20261101T070000Z
LOCATION:Nader te bepalen
SUMMARY:Onderbuikgevoel\,  wat doe je ermee?
DESCRIPTION:&#8220;Onderbuikgevoel\,  wat doe je ermee?&#8221; Als je het g
 evoel hebt\,  al dan niet zichtbaar\,  dat een leerling binnen jouw groep e
 n binnen jouw school zich thuis in een onveilige of onprettige situatie bev
 indt. Als je het gevoel hebt dat je er iets mee “moet” maar niet precie
 s weet hoe en[..]\nhttps://driegang.nl/cursusaanbod/events/onderbuikgevoel-
 wat-doe-je-ermee-copy/
URL:https://driegang.nl/cursusaanbod/events/onderbuikgevoel-wat-doe-je-ermee-copy/
END:VEVENT
END:VCALENDAR