BEGIN:VCALENDAR
VERSION:2.0
PRODID:-//eventon.com NONSGML v1.0//EN
CALSCALE:GREGORIAN
METHOD:PUBLISH
BEGIN:VEVENT
UID:69e8d50830073
DTSTAMP:20260422T140248Z
DTSTART:20261103T180000Z
DTEND:20261103T203000Z
LOCATION:SWV Driegang Dokter van Stratenweg 15\,  4205 LA Gorinchem
SUMMARY:Wat je ziet\,  is niet alles - workshop voor leraren
DESCRIPTION:Wat je ziet\,  is niet alles (over hoe jouw blik de klas in bew
 eging zet — of juist stopt) &nbsp; Wat je ziet\,  is niet alles. In alled
 aagse klassensituaties neem je razendsnel besluiten. In deze workshop onder
 zoek je hoe anders kijken ruimte kan openen wanneer het spannend wordt — 
 voor[..]\nhttps://driegang.nl/cursusaanbod/events/wat-je-ziet-is-niet-alles
 -workshop-voor-leraren/
URL:https://driegang.nl/cursusaanbod/events/wat-je-ziet-is-niet-alles-workshop-voor-leraren/
END:VEVENT
END:VCALENDAR