BEGIN:VCALENDAR
VERSION:2.0
PRODID:-//eventon.com NONSGML v1.0//EN
CALSCALE:GREGORIAN
METHOD:PUBLISH
BEGIN:VEVENT
UID:69e8d5636b408
DTSTAMP:20260422T140419Z
DTSTART:20270112T180000Z
DTEND:20270112T203000Z
LOCATION:SWV Driegang Dokter van Stratenweg 15\,  4205 LA Gorinchem
SUMMARY:Wat je ziet\,  is niet alles - workshop voor intern begeleiders en directeuren
DESCRIPTION:Wat je ziet\,  is niet alles (over hoe jouw blik richting geeft
  — of juist vastzet) &nbsp; Wat je ziet\,  is niet alles. In leerlingbesp
 rekingen en overleggen sturen interpretaties vaak ongemerkt de richting. In
  deze workshop onderzoek je hoe anders kijken kan helpen om ruimte en beweg
 ing te houden in[..]\nhttps://driegang.nl/cursusaanbod/events/wat-je-ziet-i
 s-niet-alles-workshop-voor-intern-begeleiders-en-directeuren/
URL:https://driegang.nl/cursusaanbod/events/wat-je-ziet-is-niet-alles-workshop-voor-intern-begeleiders-en-directeuren/
END:VEVENT
END:VCALENDAR