BEGIN:VCALENDAR
VERSION:2.0
PRODID:-//eventon.com NONSGML v1.0//EN
CALSCALE:GREGORIAN
METHOD:PUBLISH
BEGIN:VEVENT
UID:69e8d55f687cc
DTSTAMP:20260422T140415Z
DTSTART:20270301T070000Z
DTEND:20270301T080000Z
LOCATION:Nader te bepalen
SUMMARY:Teamscholing Inclusief Onderwijs
DESCRIPTION:Veel scholen gingen jullie de afgelopen jaren al voor. Zij orga
 niseerden een teamscholing op het gebied van Inclusief Onderwijs in samenwe
 rking met medewerkers van Driegang. Inclusief Onderwijs is inmiddels een b
 egrip in onze regio. Steeds meer schoolteams zetten zich enthousiast in om 
 het verschil te maken voor ieder kind\,  zo thuisnabij[..]\nhttps://driegan
 g.nl/cursusaanbod/events/teamscholing-inclusief-onderwijs/var/ri-4.l-L1
URL:https://driegang.nl/cursusaanbod/events/teamscholing-inclusief-onderwijs/var/ri-4.l-L1
END:VEVENT
END:VCALENDAR