BEGIN:VCALENDAR
VERSION:2.0
PRODID:-//eventon.com NONSGML v1.0//EN
CALSCALE:GREGORIAN
METHOD:PUBLISH
BEGIN:VEVENT
UID:69e8d36746e6d
DTSTAMP:20260422T135551Z
DTSTART:20261101T060000Z
DTEND:20261101T070000Z
LOCATION:Nader te bepalen
SUMMARY:Wandelend coachen met de hond
DESCRIPTION:Wandelend coachen is een coachingsgesprek buiten. In plaats van
  als coach en coachee tegenover elkaar te zitten in een ruimte omgeven door
  vier muren\,  voer je het gesprek buiten\,  wandelend naast elkaar. De coa
 ch volgt het gesprek\,  stelt vragen en luistert vooral\,  nodigt de coache
 e uit tot nieuwe inzichten te[..]\nhttps://driegang.nl/cursusaanbod/events/
 wandelend-coachen/var/ri-2.l-L1
URL:https://driegang.nl/cursusaanbod/events/wandelend-coachen/var/ri-2.l-L1
END:VEVENT
END:VCALENDAR