BEGIN:VCALENDAR
VERSION:2.0
PRODID:-//eventon.com NONSGML v1.0//EN
CALSCALE:GREGORIAN
METHOD:PUBLISH
BEGIN:VEVENT
UID:69e8d50ec4a14
DTSTAMP:20260422T140254Z
DTSTART:20270119T143000Z
DTEND:20270119T163000Z
LOCATION:SWV Driegang Dokter van Stratenweg 15\,  4205 LA Gorinchem
SUMMARY:Pedagogisch handelen
DESCRIPTION:“De meeste ideeën over goed onderwijs zijn niet nieuw\,  all
 een niet iedereen kent de oude…” Soms een beetje het overzicht kwijt in
  alle adviezen voor kinderen met gedragsvraagstukken? Denk je ook wel eens:
  &#8216;Waar te beginnen?&#8217; &nbsp; Wij nemen je in deze cursus mee in 
 de basis van pedagogisch handelen[..]\nhttps://driegang.nl/cursusaanbod/eve
 nts/pedagogisch-handelen26/var/ri-1.l-L1
URL:https://driegang.nl/cursusaanbod/events/pedagogisch-handelen26/var/ri-1.l-L1
END:VEVENT
END:VCALENDAR