BEGIN:VCALENDAR
VERSION:2.0
PRODID:-//eventon.com NONSGML v1.0//EN
CALSCALE:GREGORIAN
METHOD:PUBLISH
BEGIN:VEVENT
UID:69e8d53bbc679
DTSTAMP:20260422T140339Z
DTSTART:20270311T143000Z
DTEND:20270311T160000Z
LOCATION:SWV Driegang Dokter van Stratenweg 15\,  4205 LA Gorinchem
SUMMARY:Goed onderwijs
DESCRIPTION:Elke dag sta je voor de uitdaging om álle leerlingen in jouw g
 roep te bieden wat ze nodig hebben. En laten we eerlijk zijn: sommige leerl
 ingen vragen nét dat beetje extra — of soms zelfs heel veel extra. Juist
  dan wordt zichtbaar waar goed onderwijs echt om draait. Want hoe[..]\nhttp
 s://driegang.nl/cursusaanbod/events/goed-onderwijs/
URL:https://driegang.nl/cursusaanbod/events/goed-onderwijs/
END:VEVENT
END:VCALENDAR