BEGIN:VCALENDAR
VERSION:2.0
PRODID:-//eventon.com NONSGML v1.0//EN
CALSCALE:GREGORIAN
METHOD:PUBLISH
BEGIN:VEVENT
UID:69e8d3e8569ba
DTSTAMP:20260422T135800Z
DTSTART:20261013T170000Z
DTEND:20261013T193000Z
LOCATION:SWV Driegang Dokter van Stratenweg 15\,  4205 LA Gorinchem
SUMMARY:Kennismaken met Numicon (Rekenen)
DESCRIPTION:Je maakt kennis met de rekenmethode Numicon\,  de benaderingswi
 jze en de bijbehorende gestructureerde materialen door middel van diverse a
 ctiviteiten. Wat je verder nog moet weten over Numicon: ‘Rekenen is niet 
 tellen maar denken in patronen’ De rekenontwikkeling is een proces van ja
 ren\,  elke bouwsteen is van belang. Het kunnen eigen[..]\nhttps://driegang
 .nl/cursusaanbod/events/kennismaken-met-numicon26/
URL:https://driegang.nl/cursusaanbod/events/kennismaken-met-numicon26/
END:VEVENT
END:VCALENDAR