BEGIN:VCALENDAR
VERSION:2.0
PRODID:-//eventon.com NONSGML v1.0//EN
CALSCALE:GREGORIAN
METHOD:PUBLISH
BEGIN:VEVENT
UID:69e8d3664cd1a
DTSTAMP:20260422T135550Z
DTSTART:20270105T180000Z
DTEND:20270105T203000Z
LOCATION:SWV Driegang Dokter van Stratenweg 15\,  4205 LA Gorinchem
SUMMARY:Numicon - Leermodule ‘Brede Basis\,  het jonge kind en Numicon deel 1 en 2’
DESCRIPTION:We gaan aan de slag met de handleiding ‘Brede Basis’ met al
 s doel dat de onderwijsprofessional het aanbod voor zijn leerlingen kan pla
 nnen en koppelen aan de leerdoelen uit de leerlijn. De handleiding biedt ee
 n rijk aanbod aan passende activiteiten bij de leerdoelen uit de leerlijn. 
 Centraal staat het rekengesprek\, [..]\nhttps://driegang.nl/cursusaanbod/ev
 ents/numicon-leermodule-brede-basis-het-jonge-kind-en-numicon-deel-1-en-2/
URL:https://driegang.nl/cursusaanbod/events/numicon-leermodule-brede-basis-het-jonge-kind-en-numicon-deel-1-en-2/
END:VEVENT
END:VCALENDAR