BEGIN:VCALENDAR
VERSION:2.0
PRODID:-//eventon.com NONSGML v1.0//EN
CALSCALE:GREGORIAN
METHOD:PUBLISH
BEGIN:VEVENT
UID:69e8d3ae384d6
DTSTAMP:20260422T135702Z
DTSTART:20270112T180000Z
DTEND:20270112T193000Z
LOCATION:SWV Driegang Dokter van Stratenweg 15\,  4205 LA Gorinchem
SUMMARY:Numicon intervisiebijeenkomst
DESCRIPTION:Tijdens deze consultatie bieden wij gerichte verdieping op basi
 s van vooraf ingestuurde vragen over het werken met Numicon. &nbsp; Dit mom
 ent biedt de mogelijkheid tot het samen analyseren van concrete situaties u
 it de dagelijkse onderwijspraktijk. We denken actief mee\,  geven gerichte 
 adviezen en helpen waar nodig om de inhoud uit[..]\nhttps://driegang.nl/cur
 susaanbod/events/numicon-intervisiebijeenkomst/
URL:https://driegang.nl/cursusaanbod/events/numicon-intervisiebijeenkomst/
END:VEVENT
END:VCALENDAR