BEGIN:VCALENDAR
VERSION:2.0
PRODID:-//eventon.com NONSGML v1.0//EN
CALSCALE:GREGORIAN
METHOD:PUBLISH
BEGIN:VEVENT
UID:69e8d3e9cb80e
DTSTAMP:20260422T135801Z
DTSTART:20270323T190000Z
DTEND:20270326T160000Z
LOCATION:Buitenland
SUMMARY:Studiereis Gent - Inclusief onderwijs
DESCRIPTION:Studiereis Gent – Inclusief onderwijs Na inspirerende en leer
 zame studiereizen in 2025 en 2026 organiseren we in het voorjaar opnieuw ee
 n studiereis naar Gent. Tijdens deze reis verdiepen we ons samen in de ontw
 ikkeling van inclusief onderwijs. &nbsp; We bezoeken onder andere de Univer
 siteit van Gent\,  die actief betrokken is[..]\nhttps://driegang.nl/cursusa
 anbod/events/studiereis-gent-2027/var/ri-1.l-L1
URL:https://driegang.nl/cursusaanbod/events/studiereis-gent-2027/var/ri-1.l-L1
END:VEVENT
END:VCALENDAR