BEGIN:VCALENDAR
VERSION:2.0
PRODID:-//eventon.com NONSGML v1.0//EN
CALSCALE:GREGORIAN
METHOD:PUBLISH
BEGIN:VEVENT
UID:69e8d3b376f60
DTSTAMP:20260422T135707Z
DTSTART:20270203T141500Z
DTEND:20270203T161500Z
LOCATION:SWV Driegang Dokter van Stratenweg 15\,  4205 LA Gorinchem
SUMMARY:Van krabbel tot schrijfklaar voor het VO
DESCRIPTION:Van krabbel tot schrijfklaar voor het VO De doorgaande lijn van
  groep 1 t/m 8 voor het ontwikkelen van een leesbaar en verzorgd handschrif
 t. Op woensdag 3 februari 2027 organiseert de Driegang Academie een inspire
 rende en praktische workshopmiddag voor leerkrachten van groep 1 tot en met
  8. Want een leesbaar[..]\nhttps://driegang.nl/cursusaanbod/events/van-krab
 bel-tot-schrijfklaar-voor-het-vo/
URL:https://driegang.nl/cursusaanbod/events/van-krabbel-tot-schrijfklaar-voor-het-vo/
END:VEVENT
END:VCALENDAR