BEGIN:VCALENDAR
VERSION:2.0
PRODID:-//eventon.com NONSGML v1.0//EN
CALSCALE:GREGORIAN
METHOD:PUBLISH
BEGIN:VEVENT
UID:69e8d50984540
DTSTAMP:20260422T140249Z
DTSTART:20261126T180000Z
DTEND:20261126T200000Z
LOCATION:SWV Driegang Dokter van Stratenweg 15\,  4205 LA Gorinchem
SUMMARY:Leuker leren met muziek (midden- en bovenbouw)
DESCRIPTION:Ontdek tijdens deze actieve cursus hoe je muziek kunt inzetten 
 bij vakken zoals taal\,  rekenen\,  klokkijken en geschiedenis. Het is erg 
 leuk en draagt bij aan het leerproces van je leerlingen. De stof beklijft b
 eter wanneer je er op meerdere manieren mee bezig bent. Tijdens de cursus e
 rvaar je dat[..]\nhttps://driegang.nl/cursusaanbod/events/leuker-leren-met-
 muziek-mbbb/var/ri-1.l-L1
URL:https://driegang.nl/cursusaanbod/events/leuker-leren-met-muziek-mbbb/var/ri-1.l-L1
END:VEVENT
END:VCALENDAR