BEGIN:VCALENDAR
VERSION:2.0
PRODID:-//eventon.com NONSGML v1.0//EN
CALSCALE:GREGORIAN
METHOD:PUBLISH
BEGIN:VEVENT
UID:69e8d507b3903
DTSTAMP:20260422T140247Z
DTSTART:20261126T143000Z
DTEND:20261126T163000Z
LOCATION:SWV Driegang Dokter van Stratenweg 15\,  4205 LA Gorinchem
SUMMARY:Leuker leren met muziek (onderbouw)
DESCRIPTION:Ontdek tijdens deze actieve cursus hoe je muziek kunt inzetten 
 in de dagelijkse praktijk van groep 1 en 2. Met ritmes\,  liedjes en bewegi
 ng geef je spelenderwijs aandacht aan taal\,  tellen\,  klokkijken en thema
 ’s uit de wereldoriëntatie. Muziek maakt leren actief en helpt jonge kin
 deren om de leerstof op verschillende[..]\nhttps://driegang.nl/cursusaanbod
 /events/leuker-leren-met-muziek-ob/var/ri-1.l-L1
URL:https://driegang.nl/cursusaanbod/events/leuker-leren-met-muziek-ob/var/ri-1.l-L1
END:VEVENT
END:VCALENDAR