BEGIN:VCALENDAR
VERSION:2.0
PRODID:-//eventon.com NONSGML v1.0//EN
CALSCALE:GREGORIAN
METHOD:PUBLISH
BEGIN:VEVENT
UID:69e8d3b0cb41b
DTSTAMP:20260422T135704Z
DTSTART:20260924T170000Z
DTEND:20260924T190000Z
LOCATION:SWV Munio W. de Vries Robbéweg 27\,  Gorinchem
SUMMARY:Basiskennis VO voor PO (activiteit van SWV Munio)
DESCRIPTION:Basiskennis VO voor PO (activiteit van SWV Munio) &nbsp; SWV Mu
 nio nodigt alle IB’ers en leerkrachten van groep 7/8 uit voor een basiske
 nnisavond VO voor PO. Op deze avond willen we vooral inzicht geven in de we
 reld van het VO en is er ruimte om kennis en ervaringen uit te[..]\nhttps:/
 /driegang.nl/cursusaanbod/events/basiskennis-vo-voor-po-activiteit-van-swv-
 munio/
URL:https://driegang.nl/cursusaanbod/events/basiskennis-vo-voor-po-activiteit-van-swv-munio/
END:VEVENT
END:VCALENDAR