BEGIN:VCALENDAR
VERSION:2.0
PRODID:-//eventon.com NONSGML v1.0//EN
CALSCALE:GREGORIAN
METHOD:PUBLISH
BEGIN:VEVENT
UID:69e8d3e94cc5b
DTSTAMP:20260422T135801Z
DTSTART:20260928T170000Z
DTEND:20260928T190000Z
LOCATION:SWV Driegang Dokter van Stratenweg 15\,  4205 LA Gorinchem
SUMMARY:Workshop Ouder van mijn ouder(s)
DESCRIPTION:Kinderen van ouders met een licht verstandelijke beperking (KOV
 B) Volgens cijfers van het CBS (2020) groeien in Nederland naar schatting 2
 3.560 kinderen op in een gezin met één of meer ouders met een (licht) ver
 standelijke beperking. Omdat niet alle ouders een officiële diagnose hebbe
 n of bekend zijn bij de hulpverlening\, [..]\nhttps://driegang.nl/cursusaan
 bod/events/oudervanmijnouders/
URL:https://driegang.nl/cursusaanbod/events/oudervanmijnouders/
END:VEVENT
END:VCALENDAR