BEGIN:VCALENDAR
VERSION:2.0
PRODID:-//eventon.com NONSGML v1.0//EN
CALSCALE:GREGORIAN
METHOD:PUBLISH
BEGIN:VEVENT
UID:69e8d55f7ee5b
DTSTAMP:20260422T140415Z
DTSTART:20261117T180000Z
DTEND:20261117T190000Z
LOCATION:SWV Driegang Dokter van Stratenweg 15\,  4205 LA Gorinchem
SUMMARY:Workshop 'Slimme Kleuters' - Rekentekenen voor kleuters én groep 3
DESCRIPTION:Workshop &#8216;Slimme Kleuters&#8217; &#8211; Rekentekenen voo
 r kleuters én groep 3 &nbsp; Werk jij al met RekenTekeningen? &nbsp; Kort 
 samengevat komt het hier op neer: Kinderen lossen een rekenprobleem tekenen
 d op. Op speelse wijze ontwikkelen ze daardoor inzicht in allerlei rekensit
 uaties. Werken met RekenTekenen levert de leerkracht een duidelijk beeld op
 [..]\nhttps://driegang.nl/cursusaanbod/events/workshop-slimme-kleuters-reke
 ntekenen-voor-kleuters-en-groep-3/
URL:https://driegang.nl/cursusaanbod/events/workshop-slimme-kleuters-rekentekenen-voor-kleuters-en-groep-3/
END:VEVENT
END:VCALENDAR