BEGIN:VCALENDAR
VERSION:2.0
PRODID:-//eventon.com NONSGML v1.0//EN
CALSCALE:GREGORIAN
METHOD:PUBLISH
BEGIN:VEVENT
UID:69e8d3e8d4868
DTSTAMP:20260422T135800Z
DTSTART:20261117T191500Z
DTEND:20261117T203000Z
LOCATION:SWV Driegang Dokter van Stratenweg 15\,  4205 LA Gorinchem
SUMMARY:Workshop 'Slimme Kleuters' - Ontwerpend leren door de bril van executieve functies
DESCRIPTION:Workshop Ontwerpend leren door de bril van executieve functies 
 &nbsp; Een lange titel\,  maar een héél praktische workshop. Aan de hand 
 van een ontwerpvraag ga je zelf aan de slag om een prototype te ontwerpen: 
 een creatieve oplossing voor het gegeven probleem. We doen dit gestructuree
 rd en stapsgewijs volgens het[..]\nhttps://driegang.nl/cursusaanbod/events/
 workshop-ontwerpend-leren/
URL:https://driegang.nl/cursusaanbod/events/workshop-ontwerpend-leren/
END:VEVENT
END:VCALENDAR