BEGIN:VCALENDAR
VERSION:2.0
PRODID:-//eventon.com NONSGML v1.0//EN
CALSCALE:GREGORIAN
METHOD:PUBLISH
BEGIN:VEVENT
UID:69e8d3e7319b5
DTSTAMP:20260422T135759Z
DTSTART:20270126T180000Z
DTEND:20270126T203000Z
LOCATION:SWV Driegang Dokter van Stratenweg 15\,  4205 LA Gorinchem
SUMMARY:Training 'Slimme kleuters' - Groeimindset
DESCRIPTION:Training &#8216;Slimme kleuters&#8217; &#8211; Groeimindset Som
 mige kleuters gaan elke uitdaging aan\,  terwijl anderen juist proberen ied
 ere moeilijke opdracht te vermijden. Het vermijdingsgedrag (faalangst\,  on
 derpresteren) zien we júist vaak terug bij kleuters met een ontwikkelingsv
 oorsprong. En dat heeft alles te maken met de mindset die deze kinderen heb
 ben ontwikkeld. &nbsp; Carol[..]\nhttps://driegang.nl/cursusaanbod/events/s
 limme-kleuters-groeimindset/
URL:https://driegang.nl/cursusaanbod/events/slimme-kleuters-groeimindset/
END:VEVENT
END:VCALENDAR