BEGIN:VCALENDAR
VERSION:2.0
PRODID:-//eventon.com NONSGML v1.0//EN
CALSCALE:GREGORIAN
METHOD:PUBLISH
BEGIN:VEVENT
UID:69e8d394c6505
DTSTAMP:20260422T135636Z
DTSTART:20270101T060000Z
DTEND:20270101T070000Z
LOCATION:
SUMMARY:Vraag maar! Online training suïcidepreventie
DESCRIPTION:In deze online training suïcidepreventie ontdek en oefen je wa
 t je kunt doen als je vermoedt dat iemand in je omgeving aan zelfdoding den
 kt. De training bestaat uit 3 lessen: Signaleer Praat erover Zoek samen hul
 p De trainingen bieden informatie in de vorm van tekst\,  animaties en vide
 o’s. Iedere les[..]\nhttps://driegang.nl/cursusaanbod/events/vraagmaar/va
 r/ri-2.l-L1
URL:https://driegang.nl/cursusaanbod/events/vraagmaar/var/ri-2.l-L1
END:VEVENT
END:VCALENDAR