BEGIN:VCALENDAR
VERSION:2.0
PRODID:-//eventon.com NONSGML v1.0//EN
CALSCALE:GREGORIAN
METHOD:PUBLISH
BEGIN:VEVENT
UID:69e8d3e7b125d
DTSTAMP:20260422T135759Z
DTSTART:20260922T163000Z
DTEND:20260922T193000Z
LOCATION:SWV Driegang Dokter van Stratenweg 15\,  4205 LA Gorinchem
SUMMARY:Teach like a champion - verdiepingstraining
DESCRIPTION:Pas je de technieken uit de basiscursus Teach Like a Champion e
 nthousiast toe en ben je nu toe aan een verdieping? Deze interactieve verdi
 epingscursus biedt zestien nieuwe Teach-technieken en alle kans om met je m
 edecursisten ervaringen uit te wisselen. In de verdiepingscursus gaan we hi
 er op de gebruikelijke Teach-manier verder[..]\nhttps://driegang.nl/cursusa
 anbod/events/teach-like-a-champion-verdiepingstraining/
URL:https://driegang.nl/cursusaanbod/events/teach-like-a-champion-verdiepingstraining/
END:VEVENT
END:VCALENDAR