BEGIN:VCALENDAR
VERSION:2.0
PRODID:-//eventon.com NONSGML v1.0//EN
CALSCALE:GREGORIAN
METHOD:PUBLISH
BEGIN:VEVENT
UID:69e8d55e5ea4c
DTSTAMP:20260422T140414Z
DTSTART:20261119T173000Z
DTEND:20261119T204500Z
LOCATION:SWV Driegang Dokter van Stratenweg 15\,  4205 LA Gorinchem
SUMMARY:Basisworkshop TOSinc. Ondersteunend tekenen bij leerlingen (met TOS)
DESCRIPTION:Doe jij ook mee met deze vooral praktische basisworkshop? Direc
 t inzetbaar in de klas\,  in groepjes en in 1-op-1 begeleiding: voor elke l
 eerling. “Taal verdwijnt\,  zodra het is uitgesproken. En taal is overal.
 ” Soms is er meer nodig dan alleen maar taal. Soms merk je dat de visuele
  ondersteuning die[..]\nhttps://driegang.nl/cursusaanbod/events/basisworksh
 op-tosinc-ondersteunend-tekenen-bij-leerlingen-met-tos/
URL:https://driegang.nl/cursusaanbod/events/basisworkshop-tosinc-ondersteunend-tekenen-bij-leerlingen-met-tos/
END:VEVENT
END:VCALENDAR