BEGIN:VCALENDAR
VERSION:2.0
PRODID:-//eventon.com NONSGML v1.0//EN
CALSCALE:GREGORIAN
METHOD:PUBLISH
BEGIN:VEVENT
UID:69e8d56369ec1
DTSTAMP:20260422T140419Z
DTSTART:20270201T180000Z
DTEND:20270201T201500Z
LOCATION:SWV Driegang Dokter van Stratenweg 15\,  4205 LA Gorinchem
SUMMARY:Lezen moet je doen - de leesmethode van beeld en gebaar
DESCRIPTION:In twee avonden volg je de basiscursus LEZEN MOET JE DOEN. De m
 ethode is ontwikkeld door Trijntje de Wit in het Speciaal Onderwijs en heef
 t zijn waarde reeds tientallen jaren bewezen en wordt nog steeds gebruikt i
 n het SO\,  SBO en BO.   De trainer\,  Lineke van Oostrum\,  is zelf werk
 zaam[..]\nhttps://driegang.nl/cursusaanbod/events/lezen-moet-je-doen-de-lee
 smethode-van-beeld-en-gebaar/var/ri-1.l-L1
URL:https://driegang.nl/cursusaanbod/events/lezen-moet-je-doen-de-leesmethode-van-beeld-en-gebaar/var/ri-1.l-L1
END:VEVENT
END:VCALENDAR