BEGIN:VCALENDAR
VERSION:2.0
PRODID:-//eventon.com NONSGML v1.0//EN
CALSCALE:GREGORIAN
METHOD:PUBLISH
BEGIN:VEVENT
UID:69e8d50621e3c
DTSTAMP:20260422T140246Z
DTSTART:20261005T170000Z
DTEND:20261005T193000Z
LOCATION:SWV Driegang Dokter van Stratenweg 15\,  4205 LA Gorinchem
SUMMARY:Close Reading
DESCRIPTION:Begrijpend lezen is een belangrijke vaardigheid voor leerlingen
 . Toch blijven vaak de resultaten van begrijpend lezen achter wanneer we de
 ze vergelijken met de hoeveelheid tijd die we er aan besteden. Bij de versc
 hillende methodes voor begrijpend lezen staan diverse strategieën centraal
 . Bij Close Reading wordt een rijke tekst centraal gesteld[..]\nhttps://dri
 egang.nl/cursusaanbod/events/close-reading/
URL:https://driegang.nl/cursusaanbod/events/close-reading/
END:VEVENT
END:VCALENDAR