BEGIN:VCALENDAR
VERSION:2.0
PRODID:-//eventon.com NONSGML v1.0//EN
CALSCALE:GREGORIAN
METHOD:PUBLISH
BEGIN:VEVENT
UID:69e8d3b04efb3
DTSTAMP:20260422T135704Z
DTSTART:20261109T180000Z
DTEND:20261109T203000Z
LOCATION:SWV Driegang Dokter van Stratenweg 15\,  4205 LA Gorinchem
SUMMARY:Close Reading
DESCRIPTION:Begrijpend lezen is een belangrijke vaardigheid voor leerlingen
 . Toch blijven vaak de resultaten van begrijpend lezen achter wanneer we de
 ze vergelijken met de hoeveelheid tijd die we er aan besteden. Bij de versc
 hillende methodes voor begrijpend lezen staan diverse strategieën centraal
 . Bij Close Reading wordt een rijke tekst centraal gesteld[..]\nhttps://dri
 egang.nl/cursusaanbod/events/close-reading/var/ri-1.l-L1
URL:https://driegang.nl/cursusaanbod/events/close-reading/var/ri-1.l-L1
END:VEVENT
END:VCALENDAR