BEGIN:VCALENDAR
VERSION:2.0
PRODID:-//eventon.com NONSGML v1.0//EN
CALSCALE:GREGORIAN
METHOD:PUBLISH
BEGIN:VEVENT
UID:69e8d394c344a
DTSTAMP:20260422T135636Z
DTSTART:20270414T163000Z
DTEND:20270414T193000Z
LOCATION:SWV Driegang Dokter van Stratenweg 15\,  4205 LA Gorinchem
SUMMARY:Inspirerende workshop - Universal Design for Learning (UDL)
DESCRIPTION:We hebben het vaak over inclusie\,  maar wat bedoelen we daar n
 u juist mee in de dagelijkse klaspraktijk? Hoe zorg je ervoor dat alle leer
 lingen – met hun verschillende onderwijsbehoeften\,  talenten en achtergr
 onden – echt kunnen deelnemen en leren? En wat zijn dan concrete stappen 
 die je als leerkracht kan[..]\nhttps://driegang.nl/cursusaanbod/events/insp
 irerende-workshop-udl/
URL:https://driegang.nl/cursusaanbod/events/inspirerende-workshop-udl/
END:VEVENT
END:VCALENDAR