BEGIN:VCALENDAR
VERSION:2.0
PRODID:-//eventon.com NONSGML v1.0//EN
CALSCALE:GREGORIAN
METHOD:PUBLISH
BEGIN:VEVENT
UID:69e9f8e1e2853
DTSTAMP:20260423T104801Z
DTSTART:20250211T140000Z
DTEND:20250211T163000Z
LOCATION:SWV Driegang Dokter van Stratenweg 15\,  4205 LA Gorinchem
SUMMARY:Met sprongen vooruit - onderwijsassistenten
DESCRIPTION:De cursus Onderwijsassistent groep 1 tot en met 8 is speciaal b
 edoeld voor onderwijsassistenten. Deze cursus is ontwikkeld op verzoek van 
 echte Met Sprongen Vooruit scholen\,  stichtingen en besturen. Een groot aa
 ntal van hun leerkrachten heeft een of meer Met Sprongen Vooruit cursussen 
 gevolgd. Hierdoor is de wens ontstaan dat[..]\nhttps://driegang.nl/cursusaa
 nbod/events/met-sprongen-vooruit-onderwijsassisstenten/
URL:https://driegang.nl/cursusaanbod/events/met-sprongen-vooruit-onderwijsassisstenten/
END:VEVENT
END:VCALENDAR