BEGIN:VCALENDAR
VERSION:2.0
PRODID:-//eventon.com NONSGML v1.0//EN
CALSCALE:GREGORIAN
METHOD:PUBLISH
BEGIN:VEVENT
UID:69e9482d9f53b
DTSTAMP:20260422T221405Z
DTSTART:20241210T180000Z
DTEND:20241210T200000Z
LOCATION:SWV Driegang Dokter van Stratenweg 15\,  4205 LA Gorinchem
SUMMARY:Het kindgesprek (4e cursusdag)
DESCRIPTION:Belangrijk in het kader van inclusie en het (aanstaande) hoorre
 cht is dat kinderen zelf inzicht krijgen in hun kunnen\,  in hun niet kunne
 n en in hun eigen leer- en ontwikkelproces. Er wordt een paradigmawisseling
  bepleit van: “Als ik als leraar/begeleider het probleem van het kind ken
 \,  kan ik zijn/haar probleem[..]\nhttps://driegang.nl/cursusaanbod/events/
 het-kindgesprek/
URL:https://driegang.nl/cursusaanbod/events/het-kindgesprek/
END:VEVENT
END:VCALENDAR